BEGIN:VCALENDAR
VERSION:2.0
PRODID:-//ChamberMaster//Event Calendar 2.0//EN
METHOD:PUBLISH
X-PUBLISHED-TTL:P3D
REFRESH-INTERVAL:P3D
CALSCALE:GREGORIAN
BEGIN:VEVENT
DTSTART:20201208T180000Z
DTEND:20201208T190000Z
X-MICROSOFT-CDO-ALLDAYEVENT:FALSE
SUMMARY:Addressing Isolation during the pandemic and wintertime
DESCRIPTION:This interactive session will address specific issues emanating from the pandemic during the wintertime and techniques to apply to combat the isolation and maintain healthy practices.\n\n \n\nOutcomes include:\n\n- Solitude versus Isolation: Learning about ways to identify isolation in self and others\n\n- Ways to avoid isolation even though you are inside and staying safe\n\n- Mindfulness practices to promote unity
X-ALT-DESC;FMTTYPE=text/html:<div>\n<div>\n<div>This interactive session will address specific issues emanating from the pandemic during the wintertime and techniques to apply to combat the isolation and maintain healthy practices.</div>\n\n<div>&nbsp\;</div>\n\n<div>Outcomes include:</div>\n\n<div>-<span style="white-space:pre"> </span>Solitude versus Isolation: Learning about ways to identify isolation in self and others</div>\n\n<div>-<span style="white-space:pre"> </span>Ways to avoid isolation even though you are inside and staying safe</div>\n\n<div>-<span style="white-space:pre"> </span>Mindfulness practices to promote unity</div>\n</div>\n</div>\n
LOCATION:Zoom Registration Your Closest Computer!
UID:e.1980.10783
SEQUENCE:3
DTSTAMP:20260422T182635Z
URL:http://business.greaterreading.org/events/details/addressing-isolation-during-the-pandemic-and-wintertime-10783
END:VEVENT

END:VCALENDAR
