BEGIN:VCALENDAR
VERSION:2.0
PRODID:-//ChamberMaster//Event Calendar 2.0//EN
METHOD:PUBLISH
X-PUBLISHED-TTL:P3D
REFRESH-INTERVAL:P3D
CALSCALE:GREGORIAN
BEGIN:VEVENT
DTSTART:20201217T180000Z
DTEND:20201217T190000Z
X-MICROSOFT-CDO-ALLDAYEVENT:FALSE
SUMMARY:Connecting for better well-being during the Covid crisis
DESCRIPTION:Studies show that loneliness and a lack of connecting with others has had a negative impact on workplace productivity and well being as a result of the pandemic. Discover techniques to develop and enhance online relationships to enhance your career objectives and life fulfillment.
X-ALT-DESC;FMTTYPE=text/html:<div>\n<div>Studies show that loneliness and a lack of connecting with others has had a negative impact on workplace productivity and well being as a result of the pandemic. Discover techniques to develop and enhance online relationships to enhance your career objectives and life fulfillment.</div>\n\n<div>&nbsp\;</div>\n</div>\n
LOCATION:Zoom Registration Your Closest Computer!
UID:e.1980.10780
SEQUENCE:3
DTSTAMP:20260422T182540Z
URL:http://business.greaterreading.org/events/details/connecting-for-better-well-being-during-the-covid-crisis-10780
END:VEVENT

END:VCALENDAR
