BEGIN:VCALENDAR
VERSION:2.0
PRODID:-//ChamberMaster//Event Calendar 2.0//EN
METHOD:PUBLISH
X-PUBLISHED-TTL:P3D
REFRESH-INTERVAL:P3D
CALSCALE:GREGORIAN
BEGIN:VEVENT
DTSTART:20260528T213000Z
DTEND:20260528T230000Z
X-MICROSOFT-CDO-ALLDAYEVENT:FALSE
SUMMARY:Networking@Night - First Commonwealth FCU (May 2026)
DESCRIPTION:Networking@Night - First Commonwealth FCU\n\nKick off summer the right way great weather\, great people\, and even better vibes.\n\n \n\nJoin us for Networking@Night at First Commonwealth Credit Union as we celebrate the season with a Summer Kick-Off you won't want to miss. We're bringing the energy outdoors (weather permitting) with festive d cor\, relaxed networking\, and a delicious summer treats to keep things fun and flavorful.\n\n \n\nWhether you're looking to make new connections\, catch up with familiar faces\, or just enjoy a laid-back evening after work\, this is your chance to mix\, mingle\, and soak up those early summer nights.\n\n \n\nCome hungry\, bring your business cards\, and get ready to start the season strong.
X-ALT-DESC;FMTTYPE=text/html:<span style="font-size:18px\;"><span style="color:#0000CD\;"><strong><span style="font-family:arial\;">Networking@Night - First Commonwealth FCU</span></strong></span></span><br />\n<span style="font-size:14px\;"><span style="font-family:arial\;">Kick off summer the right way&mdash\;great weather\, great people\, and even better vibes.<br />\n&nbsp\;<br />\nJoin us for Networking@Night at First Commonwealth Credit Union as we celebrate the season with a <strong>Summer Kick-Off</strong> you won&rsquo\;t want to miss. We&rsquo\;re bringing the energy outdoors (weather permitting) with festive d&eacute\;cor\, relaxed networking\, and a delicious summer treats to keep things fun and flavorful.<br />\n&nbsp\;<br />\nWhether you&rsquo\;re looking to make new connections\, catch up with familiar faces\, or just enjoy a laid-back evening after work\, this is your chance to mix\, mingle\, and soak up those early summer nights.<br />\n&nbsp\;<br />\nCome hungry\, bring your business cards\, and get ready to start the season strong.</span></span>
LOCATION:First Commonwealth FCU 2 Cloister Ct\, Sinking Spring
UID:e.1980.12136
SEQUENCE:3
DTSTAMP:20260425T145505Z
URL:http://business.greaterreading.org/events/details/networking-night-first-commonwealth-fcu-may-2026-12136
END:VEVENT

END:VCALENDAR
