BEGIN:VCALENDAR
VERSION:2.0
PRODID:-//ChamberMaster//Event Calendar 2.0//EN
METHOD:PUBLISH
X-PUBLISHED-TTL:P3D
REFRESH-INTERVAL:P3D
CALSCALE:GREGORIAN
BEGIN:VEVENT
DTSTART:20260430T213000Z
DTEND:20260430T230000Z
X-MICROSOFT-CDO-ALLDAYEVENT:FALSE
SUMMARY:Wine & Movie Night for The Devil Wears Prada 2
DESCRIPTION:Join us for an unforgettable evening at the movies for a Wine & Movie night for The Devil Wears Prada 2\, hosted by Y102 on-air personalities: Andi and Leah! Wine Reception starts at 5:30 and the movie starts at 7:00. Ticket includes your movie ticket\, a wine glass and your first glass of wine from Ridgewood Winery. Additional wine available for purchase by the glass. Enjoy ice cream from Sweet Ride\, while supplies last. Memorialize the evening with a photo of you and your friends in our themed photo booth!
X-ALT-DESC;FMTTYPE=text/html:<span style="font-size:11.0pt">Join us for an unforgettable evening at the movies for a Wine &amp\; Movie night for The Devil Wears Prada 2\, hosted by Y102 on-air personalities: Andi and Leah! Wine Reception starts at 5:30 and the movie starts at 7:00. Ticket includes your movie ticket\, a wine glass and your first glass of wine from Ridgewood Winery. Additional wine available for purchase by the glass. Enjoy ice cream from Sweet Ride\, while supplies last. Memorialize the evening with a photo of you and your friends in our themed photo booth!</span>
LOCATION:R/C Reading Movies 11 & IMAX 30 N Second St Reading\, PA 19601
UID:e.1980.13083
SEQUENCE:3
DTSTAMP:20260425T030039Z
URL:http://business.greaterreading.org/events/details/wine-movie-night-for-the-devil-wears-prada-2-13083
END:VEVENT

END:VCALENDAR
