BEGIN:VCALENDAR
VERSION:2.0
PRODID:-//ChamberMaster//Event Calendar 2.0//EN
METHOD:PUBLISH
X-PUBLISHED-TTL:P3D
REFRESH-INTERVAL:P3D
CALSCALE:GREGORIAN
BEGIN:VEVENT
DTSTART:20200608T123000Z
DTEND:20200608T131500Z
X-MICROSOFT-CDO-ALLDAYEVENT:FALSE
SUMMARY:CANCELLED - Member Monday: Coffee with Kirsten
DESCRIPTION:Join GRCA Director of Membership Services Kirsten Haas for Member Monday: Coffee with Kirsten!\n\n \n\nSign in\, sit back with your favorite morning beverage and ease into the work week with a casual chat and check-in with your fellow GRCA members. No elevator speeches or commercials\, simply a way to recognize that we are ALL human resources!\n\n\n\nAfter you register on the GRCA website\, you will receive a separate e-mail closer to the date with the link to register for the specific ZOOM session.
X-ALT-DESC;FMTTYPE=text/html:<div style="text-align: center\;">Join GRCA Director of Membership Services Kirsten Haas for&nbsp\;<strong>Member Monday: Coffee with Kirsten!</strong><br />\n&nbsp\;</div>\n\n<div>Sign in\, sit back with your favorite morning beverage and ease into the work week with a casual chat and check-in with your fellow GRCA members. No elevator speeches or commercials\, simply a way to recognize that we are ALL&nbsp\;<em>human resources!</em><br />\n<br />\nAfter you register on the GRCA website\, you will receive a separate e-mail closer to the date&nbsp\;with the link to register for the specific ZOOM session.</div>\n
LOCATION:Virtual ZOOM meeting
UID:e.1980.10631
SEQUENCE:3
DTSTAMP:20260419T230051Z
URL:https://business.greaterreading.org/events/details/cancelled-member-monday-coffee-with-kirsten-10631
END:VEVENT

END:VCALENDAR
