BEGIN:VCALENDAR
VERSION:2.0
PRODID:-//ChamberMaster//Event Calendar 2.0//EN
METHOD:PUBLISH
X-PUBLISHED-TTL:P3D
REFRESH-INTERVAL:P3D
CALSCALE:GREGORIAN
BEGIN:VEVENT
DTSTART:20240618T010000Z
DTEND:20240618T030000Z
X-MICROSOFT-CDO-ALLDAYEVENT:FALSE
SUMMARY:City of Reading - Professionalism in the Workplace
DESCRIPTION:Logistics\n\nSession will be two-hours in length. The room must be large enough for participants to move around comfortably. Session will be held on a Monday\, June 17th  from 9:00 to 11:00am
X-ALT-DESC;FMTTYPE=text/html:<strong><span style="font-family:franklin gothic book\,sans-serif\;"><span style="font-size:12.0pt\;">Logistics</span></span></strong><br />\n<span style="font-family:franklin gothic book\,sans-serif\;"><span style="font-size:12.0pt\;">Session will be two-hours in length. The room must be large enough for participants to move around comfortably. Session will be held on a Monday\, June 17<sup>th</sup> &nbsp\;from 9:00 to 11:00am</span></span>
LOCATION:City Hall
UID:e.1980.11737
SEQUENCE:3
DTSTAMP:20260422T092321Z
URL:https://business.greaterreading.org/events/details/city-of-reading-professionalism-in-the-workplace-11737
END:VEVENT

END:VCALENDAR
