BEGIN:VCALENDAR
VERSION:2.0
PRODID:-//ChamberMaster//Event Calendar 2.0//EN
METHOD:PUBLISH
X-PUBLISHED-TTL:P3D
REFRESH-INTERVAL:P3D
CALSCALE:GREGORIAN
BEGIN:VEVENT
DTSTART:20260423T123000Z
DTEND:20260423T153000Z
X-MICROSOFT-CDO-ALLDAYEVENT:FALSE
SUMMARY:County of Berks - Supervisor Training Program Mod 2 Cohort 3 (2026)
DESCRIPTION:The Greater Reading Chamber Alliance will facilitate six\, 3-hour Supervisor Training sessions in-person at our training facility located at 49 Commerce Drive\, Wyomissing\, PA 19610 for up to 12 employees.\n\nProgram Details
X-ALT-DESC;FMTTYPE=text/html:<div>The Greater Reading Chamber Alliance will facilitate six\, 3-hour Supervisor Training sessions in-person at our training facility located at 49 Commerce Drive\, Wyomissing\, PA 19610 for up to 12 employees.</div>\n\n<div>Program Details</div>\n\n<div>&nbsp\;</div>\n
LOCATION:Center for Business Excellence
UID:e.1980.12222
SEQUENCE:3
DTSTAMP:20260421T123615Z
URL:https://business.greaterreading.org/events/details/county-of-berks-supervisor-training-program-mod-2-cohort-3-2026-12222
END:VEVENT

END:VCALENDAR
