BEGIN:VCALENDAR
VERSION:2.0
PRODID:-//ChamberMaster//Event Calendar 2.0//EN
METHOD:PUBLISH
X-PUBLISHED-TTL:P3D
REFRESH-INTERVAL:P3D
CALSCALE:GREGORIAN
BEGIN:VEVENT
DTSTART:20210506T170000Z
DTEND:20210506T180000Z
X-MICROSOFT-CDO-ALLDAYEVENT:FALSE
SUMMARY:COVID 19: Employer Policies and Vaccine Plans
DESCRIPTION:In "COVID-19: Employer Policies and Vaccine Plans\," Kozloff Stoudt Attorneys will address issues of interest to employers and HR managers in the changing COVID-19 landscape and the availability of vaccines.  The webinar will feature discussions of avoiding liability\, COVID-19 and workers' compensation\, and formulating employment policies to protect worker rights and employee morale while preventing the transmission of infection and maintaining business operations.  The presentations will focus on real-world issues including whether an employer can mandate vaccination\, ways of encouraging employees to be vaccinated\, overcoming employee vaccine hesitancy\, and required workplace accommodations in applying vaccination policies.\n\n\n\nPresenters:          Brian F. Boland\, Esquire\n\n                            Joan E. London\, Esquire\n\n                            Kourtney E. Bernecker\, Esquire\n\n                            Brian J. Boland\, Esquire\n\n                            Colin J. MacFarlane\, Esquire
X-ALT-DESC;FMTTYPE=text/html:In &ldquo\;COVID-19: Employer Policies and Vaccine Plans\,&rdquo\; Kozloff Stoudt Attorneys will address issues of interest to employers and HR managers in the changing COVID-19 landscape and the availability of vaccines.&nbsp\; The webinar will feature discussions of avoiding liability\, COVID-19 and workers&rsquo\; compensation\, and formulating employment policies to protect worker rights and employee morale while preventing the transmission of infection and maintaining business operations. &nbsp\;The presentations will focus on real-world issues including whether an employer can mandate vaccination\, ways of encouraging employees to be vaccinated\, overcoming employee vaccine hesitancy\, and required workplace accommodations in applying vaccination policies.<br />\n<br />\nPresenters:&nbsp\; &nbsp\;&nbsp\;&nbsp\;&nbsp\;&nbsp\; &nbsp\;&nbsp\;Brian F. Boland\, Esquire<br />\n&nbsp\;&nbsp\;&nbsp\;&nbsp\;&nbsp\;&nbsp\;&nbsp\;&nbsp\;&nbsp\;&nbsp\;&nbsp\;&nbsp\;&nbsp\;&nbsp\;&nbsp\;&nbsp\;&nbsp\;&nbsp\;&nbsp\;&nbsp\;&nbsp\;&nbsp\;&nbsp\;&nbsp\;&nbsp\;&nbsp\;&nbsp\; Joan E. London\, Esquire<br />\n&nbsp\;&nbsp\;&nbsp\;&nbsp\;&nbsp\;&nbsp\;&nbsp\;&nbsp\;&nbsp\;&nbsp\;&nbsp\;&nbsp\;&nbsp\;&nbsp\;&nbsp\;&nbsp\;&nbsp\;&nbsp\;&nbsp\;&nbsp\;&nbsp\;&nbsp\;&nbsp\;&nbsp\;&nbsp\;&nbsp\;&nbsp\; Kourtney E. Bernecker\, Esquire<br />\n&nbsp\;&nbsp\;&nbsp\;&nbsp\;&nbsp\;&nbsp\;&nbsp\;&nbsp\;&nbsp\;&nbsp\;&nbsp\;&nbsp\;&nbsp\;&nbsp\;&nbsp\;&nbsp\;&nbsp\;&nbsp\;&nbsp\;&nbsp\;&nbsp\;&nbsp\;&nbsp\;&nbsp\;&nbsp\;&nbsp\;&nbsp\; Brian J. Boland\, Esquire<br />\n&nbsp\;&nbsp\;&nbsp\;&nbsp\;&nbsp\;&nbsp\;&nbsp\;&nbsp\;&nbsp\;&nbsp\;&nbsp\;&nbsp\;&nbsp\;&nbsp\;&nbsp\;&nbsp\;&nbsp\;&nbsp\;&nbsp\;&nbsp\;&nbsp\;&nbsp\;&nbsp\;&nbsp\;&nbsp\;&nbsp\;&nbsp\; Colin J. MacFarlane\, Esquire<br />\n<br />\n<br />\n&nbsp\;
LOCATION:Zoom Registration Your Closest Computer!
UID:e.1980.10942
SEQUENCE:3
DTSTAMP:20260425T213608Z
URL:https://business.greaterreading.org/events/details/covid-19-employer-policies-and-vaccine-plans-10942
END:VEVENT

END:VCALENDAR
