BEGIN:VCALENDAR
VERSION:2.0
PRODID:-//ChamberMaster//Event Calendar 2.0//EN
METHOD:PUBLISH
X-PUBLISHED-TTL:P3D
REFRESH-INTERVAL:P3D
CALSCALE:GREGORIAN
BEGIN:VEVENT
DTSTART:20260617T210000Z
DTEND:20260617T223000Z
X-MICROSOFT-CDO-ALLDAYEVENT:FALSE
SUMMARY:FBA: Built Different (June 2026)
DESCRIPTION:Built Different: Inside a Family Business that Lasts\nJoin the Family Business Alliance for an authentic and insightful storytelling experience featuring Kevin Heebner and Jesse Heebner of Heeby's Surplus\, Inc.\n\n \n\nIn this candid conversation\, father and son will share the real story behind their family business offering a behind-the-scenes look at the challenges\, transitions and opportunities that come with working across generations. From leadership evolution and decision-making to communication and legacy\, Kevin and Jesse will provide honest perspectives on what it takes to grow and sustain a family business.\n\n \n\nThis session is designed to spark meaningful dialogue among peers\, offering both practical takeaways and relatable experiences for anyone involved in a family-owned business.\n\n \n\nCome ready to listen\, learn and connect with others who understand the unique dynamics of family business.\n\n\n\n____\n\n\n\nKevin Heebner | Founder & CEO\n\nKevin Heebner is a Founder and the current CEO of Heeby's\, a local family owned Homecenter based out of Blandon\, PA. From a background in demolition\, Kevin learned how to sell used building materials and developed a unique perspective of the industry. Together with his wife\, Denise Heebner\, they opened their doors in 1989\, with a focus on providing a quality product at a fair and honest price. A sentiment that still rings true today\, 37 years later. Through Kevin's leadership and hard work\, Heeby's has been able to roll with every punch imaginable and become a local staple for contractors and the DIY crowd alike. Today Kevin can be found at Heeby's almost every day still as excited to discuss kitchen renovations\, and tile options as he was the day they opened. \n\n\n\nJesse Heebner | General Manager\n\nJesse Heebner joined the Heeby's team in 2019\, he was brought on to develop a new branch of the growing Heeby's brand\, American Door Products. This arm of the company was built out of necessity and opportunity. A foray into manufacturing to develop their own prehung door line for sale in stores. For the past 7 years Jesse has managed and operated the wholesaler. Using skills and knowledge gained from a lifetime in the family business\, he has developed this new endeavor into a reliable asset for the company. Today as a man of many hats Jesse can be found on any given workday either fixing machinery\, developing new products\, or supporting the everyday operations of Heeby's.
X-ALT-DESC;FMTTYPE=text/html:<font color="#ff8c00" face="arial"><span style="font-size: 18px\;"><b>Built Different: Inside a Family Business that Lasts</b></span></font>\n<p dir="ltr" style="line-height: 1.38\; margin-top: 0pt\; margin-bottom: 0pt\;"><span style="font-size:14px\;"><span style="font-family:arial\;">Join the Family Business Alliance for an authentic and insightful storytelling experience featuring Kevin Heebner and Jesse Heebner of Heeby&rsquo\;s Surplus\, Inc.<br />\n&nbsp\;<br />\nIn this candid conversation\, father and son will share the real story behind their family business&mdash\;offering a behind-the-scenes look at the challenges\, transitions&nbsp\;and opportunities that come with working across generations. From leadership evolution and decision-making to communication and legacy\, Kevin and Jesse will provide honest perspectives on what it takes to grow and sustain a family business.<br />\n&nbsp\;<br />\nThis session is designed to spark meaningful dialogue among peers\, offering both practical takeaways and relatable experiences for anyone involved in a family-owned business.<br />\n&nbsp\;<br />\nCome ready to listen\, learn&nbsp\;and connect with others who understand the unique dynamics of family business.</span></span><br />\n<br />\n<font face="arial"><span style="font-size: 14px\;">____</span></font><br />\n<br />\n<span style="font-size:14px\;"><span style="font-family:arial\;"><strong>Kevin Heebner | Founder &amp\; CEO</strong></span></span><br />\n<span style="font-size:14px\;"><span style="font-family:arial\;">Kevin Heebner is a Founder and the current CEO of Heeby&rsquo\;s\, a local family owned Homecenter based out of Blandon\, PA. From a background in demolition\, Kevin learned how to sell used building materials and developed a unique perspective of the industry. Together with his wife\, Denise Heebner\, they opened their doors in 1989\, with a focus on providing a quality product at a fair and honest price. A sentiment that still rings true today\, 37 years later. Through Kevin&rsquo\;s leadership and hard work\, Heeby&rsquo\;s has been able to roll with every punch imaginable and become a local staple for contractors and the DIY crowd alike. Today Kevin can be found at Heeby&rsquo\;s almost every day still as excited to discuss kitchen renovations\, and tile options as he was the day they opened.&nbsp\;</span></span><br />\n<br />\n<span style="font-size:14px\;"><span style="font-family:arial\;"><strong>Jesse Heebner | General Manager</strong></span></span><br />\n<span style="font-family:arial\;"><span style="font-size:14px\;">Jesse Heebner joined the Heeby&rsquo\;s team in 2019\, he was brought on to develop a new branch of the growing Heeby&rsquo\;s brand\, American Door Products. This arm of the company was built out of necessity and opportunity. A foray into manufacturing to develop their own prehung door line for sale in stores. For the past 7 years Jesse has managed and operated the wholesaler. Using skills and knowledge gained from a lifetime in the family business\, he has developed this new endeavor into a reliable asset for the company. Today as a man of many hats Jesse can be found on any given workday either fixing machinery\, developing new products\, or supporting the everyday operations of Heeby&rsquo\;s.&nbsp\;</span></span><br />\n<br />\n&nbsp\;</p>\n
LOCATION:Heeby's Surplus\, Inc. 1164 Park Road\, Reading
UID:e.1980.13067
SEQUENCE:3
DTSTAMP:20260421T180754Z
URL:https://business.greaterreading.org/events/details/fba-built-different-june-2026-13067
END:VEVENT

END:VCALENDAR
