BEGIN:VCALENDAR
VERSION:2.0
PRODID:-//ChamberMaster//Event Calendar 2.0//EN
METHOD:PUBLISH
X-PUBLISHED-TTL:P3D
REFRESH-INTERVAL:P3D
CALSCALE:GREGORIAN
BEGIN:VEVENT
DTSTART:20250521T140000Z
DTEND:20250521T150000Z
X-MICROSOFT-CDO-ALLDAYEVENT:FALSE
SUMMARY:GRCA Ribbon Cutting | St. Lukes Health Center
DESCRIPTION:Join St. Luke's as they celebrate the opening of their newest health center.
X-ALT-DESC;FMTTYPE=text/html:<span style="font-size:14px\;"><span style="font-family:arial\;"><span style="color:#000000\;">Join St. Luke&#39\;s as they celebrate the opening of their newest health center.&nbsp\;</span></span></span>
LOCATION:60 Cherry St Leesport\, PA 19533
UID:e.1980.11977
SEQUENCE:3
DTSTAMP:20260422T065502Z
URL:https://business.greaterreading.org/events/details/grca-ribbon-cutting-st-lukes-health-center-11977
END:VEVENT

END:VCALENDAR
