BEGIN:VCALENDAR
VERSION:2.0
PRODID:-//ChamberMaster//Event Calendar 2.0//EN
METHOD:PUBLISH
X-PUBLISHED-TTL:P3D
REFRESH-INTERVAL:P3D
CALSCALE:GREGORIAN
BEGIN:VEVENT
DTSTART:20200713T130000Z
DTEND:20200713T143000Z
X-MICROSOFT-CDO-ALLDAYEVENT:FALSE
SUMMARY:GRCA Townhall : Meet Jim Gerlach
DESCRIPTION:Join the Greater Reading Chamber Alliance (GRCA) President + CEO Jim Gerlach at a GRCA Townhall for an opportunity to meet him and welcome him to Berks! \n\n\n\nGerlach started with the GRCA March 23 just as the pandemic was hitting Berks and everyone was asked to work remotely. For his first 90 days\, he worked hard to connect with local business owners and GRCA staff through virtual platforms and helped to bring stability to a county rocked by COVID-19. GRCA is looking forward to the next 90 days and introducing him to our community in a more normal way. \n\n\n\nBring your coffee and enjoy a casual Monday morning with Gerlach where he will answer your questions and you will learn more about the new leader of GRCA.\n\n\n\nA Zoom link will be sent to all registered attendees closer to the event.
X-ALT-DESC;FMTTYPE=text/html:<br />\n<span style="font-size:14px\;"><span style="font-family:arial\;"><span style="line-height: 106%\; background-image: initial\; background-position: initial\; background-size: initial\; background-repeat: initial\; background-attachment: initial\; background-origin: initial\; background-clip: initial\;">Join the Greater Reading Chamber Alliance (GRCA) President + CEO Jim Gerlach at a GRCA Townhall for an opportunity to meet him and welcome him to Berks!&nbsp\;</span><br />\n<br />\n<span style="line-height: 106%\;"><span style="background-image: initial\; background-position: initial\; background-size: initial\; background-repeat: initial\; background-attachment: initial\; background-origin: initial\; background-clip: initial\;">Gerlach started with the GRCA March 23 just as the pandemic was hitting Berks and everyone was asked to work remotely. For his first 90 days\, he worked hard to connect with local business owners and GRCA staff through virtual platforms and helped to bring stability to a county rocked by COVID-19. GRCA is looking forward to the next 90 days and introducing him to our community in a more normal way.&nbsp\;</span><br />\n<br />\n<span style="background-image: initial\; background-position: initial\; background-size: initial\; background-repeat: initial\; background-attachment: initial\; background-origin: initial\; background-clip: initial\;">Bring your coffee and enjoy a casual Monday morning with Gerlach where he will answer your questions and you will learn more about the new leader of GRCA.</span></span><br />\n<br />\n<em>A Zoom link will be sent to all registered attendees closer to the event.</em></span></span><br />\n&nbsp\;
LOCATION:Zoom Interactive Webinar Your closest computer!
UID:e.1980.10686
SEQUENCE:3
DTSTAMP:20260422T235508Z
URL:https://business.greaterreading.org/events/details/grca-townhall-meet-jim-gerlach-10686
END:VEVENT

END:VCALENDAR
