BEGIN:VCALENDAR
VERSION:2.0
PRODID:-//ChamberMaster//Event Calendar 2.0//EN
METHOD:PUBLISH
X-PUBLISHED-TTL:P3D
REFRESH-INTERVAL:P3D
CALSCALE:GREGORIAN
BEGIN:VEVENT
DTSTART:20200121T170000Z
DTEND:20200121T183000Z
X-MICROSOFT-CDO-ALLDAYEVENT:FALSE
SUMMARY:Human Resources & Benefits Roundtable 2020
DESCRIPTION:As a Human Resource Professional\, you are involved in making crucial decisions every day.  The Human Resource and Benefits Roundtable is a confidential forum for you to ask for advice\, share insights\, gain practical knowledge and counsel on the challenges\, trends\, and best practices that will provide new ideas and solutions to problems.
X-ALT-DESC;FMTTYPE=text/html:<span style="font-size:14px\;"><span style="font-family:arial\;">As a Human Resource Professional\, you are involved in making crucial decisions every day.&nbsp\; The Human Resource and Benefits Roundtable is a confidential forum for you to ask for advice\, share insights\, gain practical knowledge and counsel on the challenges\, trends\, and best practices that will provide new ideas and solutions to problems.&nbsp\; </span></span>
LOCATION:Center for Business Excellence 49 Commerce Drive\, Wyomissing\, PA 19610
UID:e.1980.10514
SEQUENCE:3
DTSTAMP:20260423T060331Z
URL:https://business.greaterreading.org/events/details/human-resources-benefits-roundtable-2020-10514
END:VEVENT

END:VCALENDAR
