BEGIN:VCALENDAR
VERSION:2.0
PRODID:-//ChamberMaster//Event Calendar 2.0//EN
METHOD:PUBLISH
X-PUBLISHED-TTL:P3D
REFRESH-INTERVAL:P3D
CALSCALE:GREGORIAN
BEGIN:VEVENT
DTSTART:20230927T160000Z
DTEND:20230927T173000Z
X-MICROSOFT-CDO-ALLDAYEVENT:FALSE
SUMMARY:Lunch&Learn - Historic Reading Architecture (Sept 2023)
DESCRIPTION:Lunch&Learn: Historic Reading Architecture\nExplore Reading's history through architecture without having to leave your seat! The Architects of Muhlenberg Greene are partnering with Brad Smith from the Berks History Center to present a historical panorama in honor of Fred Muhlenberg's Birthday.\n\n\n\nThe presentation will highlight Fred Muhlenberg's contributions to the Reading skyline and look forward to current projects underway as part of Reading's adaptive reuse wave while touching on the historic places still standing as-is. The presentation also will feature pieces from the Muhlenberg Legacy Rendering Art Show.\n\n\n\nAt the end\, we'll play a game of Guess This Famous Building for prizes!\n\n \n\n_____________________________________________________\n\n\n\nJim Sarro | Principal Architect at Muhlenberg Greene\n\nSarro has over 20 years? experience as a Project Manager in commercial\, educational\, retail and hospitality design. As an Associate of the Firm\, Sarro participates in all aspects of the design process\, including client meetings to establish the project scope\, code review and compliance documentation\, preliminary design and construction documentation\, specifications\, and bidding and construction administration. He strives to maintain sustainable design with every project as a LEED AP BD+C certified professional.\n\n\n\nBrad Smith | Archivist at Berks History Center\n\nSmith worked for 17 years in various roles for the Pennsylvania Historical & Museum Commission. He has been affiliated with the Berks History Center since 2016\, and he is currently the center's Assistant Director and Archivist. In addition\, he is an Adjunct History Professor at Alvernia University. While Smith was raised in Lebanon County\, most of his father's family has lived in the Reading area for over 200 years.
X-ALT-DESC;FMTTYPE=text/html:<span style="font-size:18px\;"><strong>Lunch&amp\;Learn: Historic Reading Architecture</strong></span>\n<p class="xmsonormal"><span style="font-size:14px\;"><span style="font-family:arial\;"><span style="color:#1F3864\;">Explore Reading&#39\;s history through architecture without having to leave your seat! The Architects of Muhlenberg Greene are partnering with Brad Smith from the Berks History Center to present a historical panorama in honor of Fred Muhlenberg&#39\;s Birthday.<br />\n<br />\nThe presentation will highlight Fred Muhlenberg&#39\;s contributions to the Reading skyline and&nbsp\;look forward to current projects underway as part of Reading&#39\;s adaptive reuse wave while touching on the historic places still standing as-is. The presentation also will feature pieces from the Muhlenberg Legacy Rendering Art Show.<br />\n<br />\nAt the end\, we&#39\;ll play a game of Guess This Famous Building for prizes!</span></span></span></p>\n\n<p class="xmsonormal">&nbsp\;</p>\n\n<p class="xmsonormal"><span style="font-size:14px\;"><span style="font-family:arial\;">_____________________________________________________<br />\n<br />\n<b>Jim Sarro | Principal Architect at Muhlenberg Greene</b><br />\nSarro has over 20 years? experience as a Project Manager in commercial\, educational\, retail&nbsp\;and hospitality design. As an Associate of the Firm\, Sarro&nbsp\;participates in all aspects of the design process\, including client meetings to establish the project scope\, code review and compliance documentation\, preliminary design and construction documentation\, specifications\, and bidding and construction administration. He strives to maintain sustainable design with every project as a LEED AP BD+C certified professional.</span></span><br />\n<br />\n<b style="font-family: arial\; font-size: 14px\;">Brad Smith | Archivist at Berks History Center</b><br />\n<span style="font-size:14px\;"><span style="font-family:arial\;">Smith worked for 17 years in various roles for the Pennsylvania Historical &amp\; Museum Commission.&nbsp\;He has been affiliated with the Berks History Center since 2016\, and he is currently the center&#39\;s Assistant Director and Archivist.&nbsp\;In addition\, he is an Adjunct History Professor at Alvernia University. While Smith&nbsp\;was raised in Lebanon County\, most of his father&#39\;s family has lived in the Reading area for over 200 years.</span></span><em> </em><br />\n&nbsp\;</p>\n\n<p class="xmsonormal">&nbsp\;</p>\n
LOCATION:Center for Business Excellence 49 Commerce Dr.\, Wyomissing
UID:e.1980.11375
SEQUENCE:3
DTSTAMP:20260420T093825Z
URL:https://business.greaterreading.org/events/details/lunch-learn-historic-reading-architecture-sept-2023-11375
END:VEVENT

END:VCALENDAR
