BEGIN:VCALENDAR
VERSION:2.0
PRODID:-//ChamberMaster//Event Calendar 2.0//EN
METHOD:PUBLISH
X-PUBLISHED-TTL:P3D
REFRESH-INTERVAL:P3D
CALSCALE:GREGORIAN
BEGIN:VEVENT
DTSTART:20230510T160000Z
DTEND:20230510T173000Z
X-MICROSOFT-CDO-ALLDAYEVENT:FALSE
SUMMARY:Lunch&Learn - Rules of the Road (May 2023)
DESCRIPTION:Lunch&Learn: Rules of the Road\n\nIntroducing the Edward Jones' 10 Rules of the Road to investing.\n\n\n\nParticipants will learn:\n\n\n	\n	The most common investing mistakes and how to avoid them\n	\n	\n	Investing strategies to help reach their long-term goals\n	\n	\n	What they can do now to prepare for retirement\n	\n\n\n \n\n_____________________________________________________\n\n\n\nBrett Diamond\n\nAs an Edward Jones financial advisor\, it's my job to understand what is most important to you. Working together\, we use an established process to build personalized strategies to help you achieve your financial goals. We monitor your progress to help make sure you stay on track and are dedicated to providing you with top-notch client service.\n\n\n\nI am proud and honored to be a financial advisor in the area where I've lived most of my life\, Exeter Township\, Reading\, PA. I value getting to know my neighbors\, being involved in the community and working to make a difference in people's lives. Before returning to my original career in finance\, I taught in our district's schools. I'm a member of the Greater Reading Chamber Alliance and currently serve on the board of the Exeter Community Education Foundation (ECEF) and the executive committee of the Exeter Eagles Alumni Association.\n\n\n\nThe opportunity to help the community in my hometown of Reading\, PA\, where I live with my wife\, daughter and two dogs\, inspires me daily. I look forward to partnering together with you to achieve your financial goals.
X-ALT-DESC;FMTTYPE=text/html:<p><span style="font-family:arial\;"><span style="font-size:18px\;"><strong>Lunch&amp\;Learn: Rules of the Road</strong></span></span></p>\n\n<p>Introducing&nbsp\;the Edward Jones&#39\; 10 Rules of the Road to investing.<br />\n<br />\n<strong>Participants will learn:</strong></p>\n\n<ul>\n	<li>\n	<p>The most common investing mistakes and how to avoid them</p>\n	</li>\n	<li>\n	<p>Investing strategies to help reach their long-term goals</p>\n	</li>\n	<li>\n	<p>What they can do now to prepare for retirement</p>\n	</li>\n</ul>\n\n<p>&nbsp\;</p>\n\n<p>_____________________________________________________<br />\n<br />\n<strong>Brett Diamond</strong><br />\nAs an Edward Jones financial advisor\, it&#39\;s my job to understand what is most important to you. Working together\, we use an established process to build personalized strategies to help you achieve your financial goals. We monitor your progress to help make sure you stay on track and are dedicated to providing you with top-notch client service.<br />\n<br />\nI am proud and honored to be a financial advisor in the area where I&#39\;ve lived most of my life\, Exeter Township\, Reading\, PA. I value getting to know my neighbors\, being involved in the community and working to make a difference in people&#39\;s lives. Before returning to my original career in finance\, I taught in our district&#39\;s schools. I&#39\;m a member of the Greater Reading Chamber Alliance and currently serve on the board of the Exeter Community Education Foundation (ECEF) and the executive committee of the Exeter Eagles Alumni Association.<br />\n<br />\nThe opportunity to help the community in my hometown of Reading\, PA\, where I live with my wife\, daughter and two dogs\, inspires me daily. I look forward to partnering together with you to achieve your financial goals.</p>\n\n<p>&nbsp\;</p>\n
LOCATION:Center for Business Excellence 49 Commerce Dr.\, Wyomissing
UID:e.1980.11373
SEQUENCE:3
DTSTAMP:20260420T195824Z
URL:https://business.greaterreading.org/events/details/lunch-learn-rules-of-the-road-may-2023-11373
END:VEVENT

END:VCALENDAR
