BEGIN:VCALENDAR
VERSION:2.0
PRODID:-//ChamberMaster//Event Calendar 2.0//EN
METHOD:PUBLISH
X-PUBLISHED-TTL:P3D
REFRESH-INTERVAL:P3D
CALSCALE:GREGORIAN
BEGIN:VEVENT
DTSTART:20230201T213000Z
DTEND:20230201T233000Z
X-MICROSOFT-CDO-ALLDAYEVENT:FALSE
SUMMARY:Major Sponsor Thank You Event 2023 - Private
DESCRIPTION:Private thank you event for companies sponsoring GRCA Events and/or offering significant ED dollars - $5\,000+
X-ALT-DESC;FMTTYPE=text/html:Private thank you event for companies sponsoring GRCA Events and/or offering significant ED dollars - $5\,000+
LOCATION:Sly Fox Brewery Event Space
UID:e.1980.11326
SEQUENCE:3
DTSTAMP:20260424T094116Z
URL:https://business.greaterreading.org/events/details/major-sponsor-thank-you-event-2023-private-11326
END:VEVENT

END:VCALENDAR
