BEGIN:VCALENDAR
VERSION:2.0
PRODID:-//ChamberMaster//Event Calendar 2.0//EN
METHOD:PUBLISH
X-PUBLISHED-TTL:P3D
REFRESH-INTERVAL:P3D
CALSCALE:GREGORIAN
BEGIN:VEVENT
DTSTART:20200813T170000Z
DTEND:20200813T180000Z
X-MICROSOFT-CDO-ALLDAYEVENT:FALSE
SUMMARY:Map Your Cash During the COVID-19 Crisis
DESCRIPTION:Cash is the fuel for every business. Understanding your cash runway and keeping your cash flow drivers in focus will increase your chance of business success. In this workshop\, we'll share tools to help you understand and improve your cash flow in both the short term and the long term.
X-ALT-DESC;FMTTYPE=text/html:Cash is the fuel for every business. Understanding your cash runway and keeping your cash flow drivers in focus will increase your chance of business success. In this workshop\, we&#39\;ll share tools to help you understand and improve your cash flow in both the short term and the long term.&nbsp\;&nbsp\;
LOCATION:Zoom Registration Your Closest Computer!
UID:e.1980.10697
SEQUENCE:3
DTSTAMP:20260423T191232Z
URL:https://business.greaterreading.org/events/details/map-your-cash-during-the-covid-19-crisis-10697
END:VEVENT

END:VCALENDAR
