BEGIN:VCALENDAR
VERSION:2.0
PRODID:-//ChamberMaster//Event Calendar 2.0//EN
METHOD:PUBLISH
X-PUBLISHED-TTL:P3D
REFRESH-INTERVAL:P3D
CALSCALE:GREGORIAN
BEGIN:VEVENT
DTSTART:20260624T120000Z
DTEND:20260624T133000Z
X-MICROSOFT-CDO-ALLDAYEVENT:FALSE
SUMMARY:Non-Profit Roundtable
DESCRIPTION:Non-Profit Roundtable\nJoin us for this year's Non-Profit Initiative\, designed as a true roundtable experience for non-profit professionals across our community.\n\n \n\nThis interactive session will bring leaders together in a collaborative setting to network\, share ideas and engage in meaningful conversation around the challenges and opportunities facing the non-profit sector today. Rather than a traditional presentation\, this format encourages open dialogue\, giving every participant a seat at the table and a voice in the discussion.\n\n \n\nOur first roundtable will focus on community calendars\, exploring ways to better align efforts\, increase visibility for events and reduce overlap across organizations.\n\n \n\nWhether you're looking to exchange best practices\, brainstorm solutions or simply connect with peers who understand the work you do\, this roundtable is an opportunity to learn from one another and strengthen our collective impact.\n\n \n\nCome ready to engage\, contribute and leave with fresh perspectives and new connections
X-ALT-DESC;FMTTYPE=text/html:<span style="font-size:18px\;"><strong><span style="font-family:aptos\,sans-serif\;">Non-Profit Roundtable</span></strong></span>\n<p class="x_MsoNormal" style="margin: 0in\; font-size: 11pt\; font-family: Calibri\, sans-serif\; color: rgb(36\, 36\, 36)\;"><span style="font-size:14px\;"><span style="font-family:arial\;">Join us for this year&rsquo\;s Non-Profit Initiative\, designed as a true roundtable experience for non-profit professionals across our community.<br />\n&nbsp\;<br />\nThis interactive session will bring leaders together in a collaborative setting to network\, share ideas&nbsp\;and engage in meaningful conversation around the challenges and opportunities facing the non-profit sector today. Rather than a traditional presentation\, this format encourages open dialogue\, giving every participant a seat at the table and a voice in the discussion.<br />\n&nbsp\;<br />\nOur first roundtable will focus on community calendars\, exploring ways to better align efforts\, increase visibility for events&nbsp\;and reduce overlap across organizations.<br />\n&nbsp\;<br />\nWhether you&rsquo\;re looking to exchange best practices\, brainstorm solutions or simply connect with peers who understand the work you do\, this roundtable is an opportunity to learn from one another and strengthen our collective impact.<br />\n&nbsp\;<br />\nCome ready to engage\, contribute&nbsp\;and leave with fresh perspectives and new connections</span></span></p>\n
LOCATION:Center for Business Excellence (CBE) 49 Commerce Dr.\, Wyomissing
UID:e.1980.13080
SEQUENCE:3
DTSTAMP:20260422T115156Z
URL:https://business.greaterreading.org/events/details/non-profit-roundtable-13080
END:VEVENT

END:VCALENDAR
