BEGIN:VCALENDAR
VERSION:2.0
PRODID:-//ChamberMaster//Event Calendar 2.0//EN
METHOD:PUBLISH
X-PUBLISHED-TTL:P3D
REFRESH-INTERVAL:P3D
CALSCALE:GREGORIAN
BEGIN:VEVENT
DTSTART:20221103T123000Z
DTEND:20221103T140000Z
X-MICROSOFT-CDO-ALLDAYEVENT:FALSE
SUMMARY:Not Biased? Think Again. (DEIB Training Breakfast in Partnership with RBAR)
DESCRIPTION:Not Biased? Think Again.\n\n \nJoin the Reading-Berks Association of REALTORS  & Greater Reading Chamber Alliance as they sponsor presenter Stacey Waters of the Pennsylvania Human Relations Commission for "Not Biased? Think Again\," a FREE Diversity\, Equity\, Inclusion & Belonging breakfast training. Seating is limited!\n\nDiversity\, Equity\, Inclusion\, and Belonging Training provides an explanation of what unconscious bias\, or implicit bias\, entails and the best practices to address and avoid engaging in bias. Different types of bias\, and the impact of bias as it relates to diversity\, equity\, and belonging\, will be discussed. The presenter will build a case for DEIB and why it is imperative that we aim for diverse\, equitable\, inclusive environments in which everyone has a sense of belonging. Funding for this program provided by NAR Fair Housing Grant.\n\n\n\nREGISTER HERE.
X-ALT-DESC;FMTTYPE=text/html:<br />\n<span style="font-size:14px\;"><span style="font-family:arial\;"><strong><span style="font-size:18px\;">Not Biased? Think Again.</span></strong></span></span><br />\n&nbsp\;\n<p style="margin: 0px\; padding: 0px\; box-sizing: border-box\; color: rgb(111\, 114\, 135)\; font-size: 16px\; line-height: 1.5rem\; font-family: &quot\;Neue Plak&quot\;\, -apple-system\, BlinkMacSystemFont\, Roboto\, &quot\;Helvetica Neue&quot\;\, Helvetica\, Tahoma\, Arial\, sans-serif\;"><span style="font-size:14px\;"><span style="font-family:arial\;">Join the <a href="https://www.realestateinberks.com/">Reading-Berks Association of REALTORS&reg\;</a> &amp\; Greater Reading Chamber Alliance as they sponsor presenter Stacey Waters of the Pennsylvania Human Relations Commission for &quot\;Not Biased? Think Again\,&quot\; a FREE Diversity\, Equity\, Inclusion &amp\; Belonging breakfast training. Seating is limited!</span></span></p>\n\n<p style="margin: 0px\; padding: 10px 0px 0px\; box-sizing: border-box\; color: rgb(111\, 114\, 135)\; font-size: 16px\; line-height: 1.5rem\; font-family: &quot\;Neue Plak&quot\;\, -apple-system\, BlinkMacSystemFont\, Roboto\, &quot\;Helvetica Neue&quot\;\, Helvetica\, Tahoma\, Arial\, sans-serif\;"><span style="font-size:14px\;"><span style="font-family:arial\;">Diversity\, Equity\, Inclusion\, and Belonging Training provides an explanation of what unconscious bias\, or implicit bias\, entails and the best practices to address and avoid engaging in bias. Different types of bias\, and the impact of bias as it relates to diversity\, equity\, and belonging\, will be discussed. The presenter will build a case for DEIB and why it is imperative that we aim for diverse\, equitable\, inclusive environments in which everyone has a sense of belonging.&nbsp\;<em style="box-sizing: border-box\; padding-top: 0px\;">Funding for this program provided by NAR Fair Housing Grant.</em></span></span><br />\n<br />\n<span style="font-size:16px\;"><strong><a href="https://www.eventbrite.com/e/not-biased-think-again-tickets-427157618937" style="font-family: arial\; font-size: 14px\;">REGISTER HERE.</a></strong></span></p>\n
LOCATION:Berks County Community Foundation 237 Court St.\, Reading\, PA 19601
UID:e.1980.11230
SEQUENCE:3
DTSTAMP:20260424T100456Z
URL:https://business.greaterreading.org/events/details/not-biased-think-again-deib-training-breakfast-in-partnership-with-rbar-11230
END:VEVENT

END:VCALENDAR
