BEGIN:VCALENDAR
VERSION:2.0
PRODID:-//ChamberMaster//Event Calendar 2.0//EN
METHOD:PUBLISH
X-PUBLISHED-TTL:P3D
REFRESH-INTERVAL:P3D
CALSCALE:GREGORIAN
BEGIN:VEVENT
DTSTART:20230510T200000Z
DTEND:20230510T223000Z
X-MICROSOFT-CDO-ALLDAYEVENT:FALSE
SUMMARY:Open House at the Center for Business Excellence
DESCRIPTION:Learn about our training facility and all the Professional Development Programs available to members\n\nThe Center for Business Excellence located in Wyomissing provides Chamber members with a state of the art training facility\, shared workspace options and conference rooms available to rent for your next business meeting.\n\n \n\nA few GRCA staff members will be present along with instructors to discuss the various programs we provide to our members including:\n\n\n	Professional and Leadership Development Programs\n	Women2Women & Lean In Program\n	Corporate Meeting Space\n	Shared Workspace Options\n\n\n This is a can't miss event for all members! Come enjoy a casual environment with cocktails and hors d'oeuvres\, meet staff\, instructors and mingle with fellow members.
X-ALT-DESC;FMTTYPE=text/html:<p class="MsoNormal" style="margin: 0in 0in 0pt\;"><strong><span style="color:#333333\;"><span style="font-family:arial\,sans-serif\;"><span style="font-size:12.0pt\;">Learn about our training facility&nbsp\;and all the Professional Development Programs available to members</span></span></span></strong><br />\n<span style="color:#333333\;"><span style="font-family:arial\,sans-serif\;"><span style="font-size:10.5pt\;">The Center for Business Excellence located in Wyomissing provides Chamber members with a state of the art training facility\, shared workspace options and conference rooms available to rent for your next business meeting.</span></span></span><br />\n&nbsp\;<br />\n<strong><span style="color:#333333\;"><span style="font-family:arial\,sans-serif\;"><span style="font-size:10.5pt\;">A few GRCA staff members will be present along with instructors to discuss the various programs we provide to our members including:</span></span></span></strong></p>\n\n<ul>\n	<li style="color:#333333\;margin-bottom:0in\;line-height:normal\;"><span style="font-family:arial\,sans-serif\;"><span style="font-size:10.5pt\;">Professional and Leadership Development Programs</span></span></li>\n	<li style="color:#333333\;margin-bottom:0in\;line-height:normal\;"><span style="font-size:14px\;"><span style="font-family:arial\;">Women2Women &amp\;&nbsp\;<span style="font-family:arial\,sans-serif\;"><span style="font-size:10.5pt\;">Lean In Program</span></span></span></span></li>\n	<li style="color:#333333\;margin-bottom:0in\;line-height:normal\;"><span style="font-family:arial\,sans-serif\;"><span style="font-size:10.5pt\;">Corporate Meeting Space</span></span></li>\n	<li style="color:#333333\;margin-bottom:0in\;line-height:normal\;"><span style="font-family:arial\,sans-serif\;"><span style="font-size:10.5pt\;">Shared Workspace Options</span></span></li>\n</ul>\n\n<p class="MsoNormal" style="margin: 0in 0in 0pt\;">&nbsp\;<span style="color:#333333\;"><span style="font-family:arial\,sans-serif\;"><span style="font-size:10.5pt\;">This is a can&#39\;t miss event for all members! Come enjoy a casual environment with cocktails and hors d&rsquo\;oeuvres\, meet staff\, instructors and mingle with fellow members.</span></span></span></p>\n
LOCATION:Center for Business Excellence 49 Commerce Drive Wyomissing\, PA 19610
UID:e.1980.11382
SEQUENCE:3
DTSTAMP:20260423T091159Z
URL:https://business.greaterreading.org/events/details/open-house-at-the-center-for-business-excellence-11382
END:VEVENT

END:VCALENDAR
