BEGIN:VCALENDAR
VERSION:2.0
PRODID:-//ChamberMaster//Event Calendar 2.0//EN
METHOD:PUBLISH
X-PUBLISHED-TTL:P3D
REFRESH-INTERVAL:P3D
CALSCALE:GREGORIAN
BEGIN:VEVENT
DTSTART:20260516T203000Z
DTEND:20260517T003000Z
X-MICROSOFT-CDO-ALLDAYEVENT:FALSE
SUMMARY:The Caring Cup - Music Night
DESCRIPTION:An evening of music food & community featuring food trucks\, a silent auction\, and live music. The event is being held in support of The Caring Cup\, a coffee shop built to employ adults with disabilities. \n\n\n\nJoin us outdoors\, please bring a chair. Visit www.caringcup.com for more information.
X-ALT-DESC;FMTTYPE=text/html:<span style="font-size:14px">An evening of music food &amp\; community featuring food trucks\, a silent auction\, and live music. The event is being held in support of The Caring Cup\, a coffee shop built to employ adults with disabilities.&nbsp\;<br />\n<br />\nJoin us outdoors\, please bring a chair. Visit www.caringcup.com for more information.</span>
LOCATION:Faith High School 5085 Woodland Dr Kinzers\, PA 17535
UID:e.1980.13079
SEQUENCE:3
DTSTAMP:20260422T182103Z
URL:https://business.greaterreading.org/events/details/the-caring-cup-music-night-13079
END:VEVENT

END:VCALENDAR
