BEGIN:VCALENDAR
VERSION:2.0
PRODID:-//ChamberMaster//Event Calendar 2.0//EN
METHOD:PUBLISH
X-PUBLISHED-TTL:P3D
REFRESH-INTERVAL:P3D
CALSCALE:GREGORIAN
BEGIN:VEVENT
DTSTART:20210129T140000Z
DTEND:20210129T153000Z
X-MICROSOFT-CDO-ALLDAYEVENT:FALSE
SUMMARY:US Chamber and National Association of Manufacturers Federal Advocacy Update - Jan. 2021
DESCRIPTION:GRCA will be hosting Kevin Courtois\, Executive Director of Congressional and Public Affairs at the U.S. Chamber's Great Lakes Regional Office and Tim Gould\, Director\, Field Advocacy - Mid-Atlantic at National Association of Manufacturers (NAM) for a panel discussion with Q&A on federal business issues\, legislative priorities for the next 2-year session\, key figures in the Biden Administration and Congressional Committee Leadership\, and more.\n\n\n\nKick the 117th Congress off right with their in-depth analysis and insight.
X-ALT-DESC;FMTTYPE=text/html:<br />\n<span style="font-size:14px\;">GRCA will be hosting <strong>Kevin Courtois\,</strong> <strong>Executive Director of Congressional and Public Affairs at the U.S. Chamber&rsquo\;s Great Lakes Regional Office</strong> and <strong>Tim Gould</strong>\, <strong>Director\, Field Advocacy - Mid-Atlantic at National Association of Manufacturers (NAM) </strong>for a panel discussion with Q&amp\;A on federal business issues\, legislative priorities for the next 2-year session\, key figures in the Biden Administration and Congressional Committee Leadership\, and more.<br />\n<br />\n<em><strong>Kick the 117<sup>th</sup> Congress off right with their in-depth analysis and insight.</strong></em></span>
LOCATION:Virtual Event on Remo Platform (no download needed) Login Link will be sent the week of the event.
UID:e.1980.10863
SEQUENCE:3
DTSTAMP:20260421T231227Z
URL:https://business.greaterreading.org/events/details/us-chamber-and-national-association-of-manufacturers-federal-advocacy-update-jan-2021-10863
END:VEVENT

END:VCALENDAR
