BEGIN:VCALENDAR
VERSION:2.0
PRODID:-//ChamberMaster//Event Calendar 2.0//EN
METHOD:PUBLISH
X-PUBLISHED-TTL:P3D
REFRESH-INTERVAL:P3D
CALSCALE:GREGORIAN
BEGIN:VEVENT
DTSTART:20201104T170000Z
DTEND:20201104T183000Z
X-MICROSOFT-CDO-ALLDAYEVENT:FALSE
SUMMARY:Networking@Noon - Riverfront Credit Union
DESCRIPTION:Join Riverfront Federal Credit Union and GRCA members for an afternoon of networking on a virtual platform. You bring the lunch and we will bring a fun schedule and agenda to ensure you meet as many other members as possible!
X-ALT-DESC;FMTTYPE=text/html:<span style="font-size:14px\;"><span style="color: rgb(0\, 0\, 0)\;">Join Riverfront Federal Credit Union and GRCA members for an afternoon of networking on a virtual platform. You bring the lunch and we will bring a fun schedule and agenda to ensure you meet as many other members as possible!&nbsp\;</span></span><br />\n&nbsp\;
LOCATION:Virtual Event Remo Web Platform Link will be sent in advance of event
UID:e.1980.10586
SEQUENCE:3
DTSTAMP:20260425T163028Z
URL:https://business.greaterreading.org/events/details/wednesday-diversity-mixer-riverfront-credit-union-10586
END:VEVENT

END:VCALENDAR
