BEGIN:VCALENDAR
VERSION:2.0
PRODID:-//ChamberMaster//Event Calendar 2.0//EN
METHOD:PUBLISH
X-PUBLISHED-TTL:P3D
REFRESH-INTERVAL:P3D
CALSCALE:GREGORIAN
BEGIN:VEVENT
DTSTART:20200625T130000Z
DTEND:20200625T150000Z
X-MICROSOFT-CDO-ALLDAYEVENT:FALSE
SUMMARY:Women2Women Conference & Expo 2020 - Digital Summit Kick Off + All Day Expo
DESCRIPTION:Women2Women Conference + Expo 2020 - Digital Summit Kick Off + All Day Expo\n\n\n\nWe are excited to announce the transition of our annual Women's Conference + Expo to a Digital Summit\, spanning across 4 months\, 1-2 events per month PLUS our well-known Expo. This is not a time to stop making connections\; this is the perfect time to make NEW ones. Join us at our Digital Summit this year and grow to lead during this time and for the future while connecting with other women.\n\n\n\nJune 25th kicks off our Digital Summit and features our always-awaited ATHENA Ceremony followed by our kick off Keynote Speaker\, Jessica Holmes. Following the session\, enjoy the Women2Women Expo featuring Women2Women sponsor tables\, local women-owned business tables and meet some of the local nonprofits at their tables. All virtual tables of course! \n\n\n\n                             View 2020 Women2Women Digital Leadership Summit AGENDA \n\n\n\nIn 2020\, each session per month is a separate price so YOU have the choice to attend what you'd like. As always\, you also have the choice to attend ALL for the full Women2Women leadership development experience. With each registration you will receive Full Day Access to the Virtual Expo as well!\n\n	July 21st Breakout Session "Unapologetically Authentic" - Register Here\n	August 12th Breakout Session "Game On: Using Mental Toughness as a Compass" - Register Here\n	September 22nd De Mujer a Mujer Ceremony + Send Off Keynote - Register Here\n\n\n\nATHENA Ceremony\n\n2020 Recipient: Crystal Gilmore Harris\n\n\n\nWhat better way to kick off our Digital Summit than to celebrate the 2020 ATHENA' recipient's accomplishments and work for the community. Crystal Gilmore Harris is the Social Services Administrative Assistant at the Reading School District. Learn more about Crystal\, the ATHENA award and past recipients here.\n\n_____________________________________________________________\n\n\n\nKick Off Keynote Speaker\n\n\n\nJessica Holmes - Celebrated Comedian\, Author & Mental Health Advocate \n\nDepression the Comedy\n\n\n\nThis is a frank and hilarious account of how it took Jessica Holmes two years to get diagnosed as depressed. It started small: she resented "fun stuff" like girls night out\, developed a loathing for words like "wellness\," and avoided foods that promised to prolong her life. Even when she yawned her way through an emceeing job for Oprah Winfrey didn't sound any alarms for her. By the end of 2013\, Jessica slept more than the cat\, gave her husband a hall pass\, and told her TV agent "hold my calls for six months" before diagnosis.   In the nearly two years that she had transitioned from "cheerleader" to "zombie"\, she hadn't taken stock of how far she had veered from her ideal life of fulfillment and gratitude. Jessica's story\, which has a deeply happy ending\, relates to anyone who has ever been on a downhill trajectory\, whether with health\, relationships\, or career\, who forgot to stop and ask "where am I?"\n\n \n\nJessica Holmes has opened for giants like Jerry Seinfeld\, Ellen DeGeneres\, and Oprah Winfrey. Combining stand-up\, music\, and improvisation\, she performed at Just For Laughs and The Second City before starring in her own TV series\, The Holmes Show.\n\n \n\nAlso a wellness advocate\, Holmes mixes comedy with a validating message about life's challenges in her book\, Depression The Comedy\, and has become a celebrated voice in fighting the stigma surrounding mental health issues in her hilarious and inspirational keynotes.\n\n \n\nA mother of two (and wife of one)\, Holmes' passion is finding the laughs in life's imperfections and turning embarrassments into punchlines.\n\n\n\n_______________________________________________________________\n\n\n\nWomen2Women Virtual Expo\n\n\n\nEach year at the Women2Women Conference we offer our attendees the opportunity to peruse tables filled with goods\, services and education (+ swag)! Enjoy our Virtual Expo Experience and meet some of our Women2Women sponsors\, local women-owned businesses and nonprofits from our community. \n\n\n\nInstead of one day for our Expo\, now you will have the opportunity to enjoy the Expo at your leisure across FOUR DAYS. You will receive an Access Pass for each event registration. The Pass will available all day to you. Instructions to follow with your registration. \n\n\n\n_______________________________________________________________\n\n\n\nMedia photos from 2019 Expo. Courtesy of Zerbe Photography.\n\n \n\nWomen2Women is a special program of the Greater Reading Chamber Alliance with the mission to be Berks County's leading resource for building a healthy\, competitive business community. GRCA/W2W policy does not allow active campaigning or distribution of campaign materials at is event. No solicitation. Photos are taken at event and may be used on social media and in future advertising\; by attending you are consenting to the use of your photo.
X-ALT-DESC;FMTTYPE=text/html:<em style="color: rgb(0\, 0\, 0)\; font-family: arial\; font-size: 14px\;"><u><strong><span style="font-size: 16px\;">Women2Women Conference + Expo 2020 - Digital Summit Kick Off + All Day Expo</span></strong></u></em><br />\n<br />\n<span style="font-family: arial\;"><span style="letter-spacing: -0.1pt\;"><span style="font-size: 10pt\;"><span style="font-size: 14px\;">We are excited to announce the transition of our annual Women&#39\;s Conference + Expo to a Digital Summit\, spanning across 4 months\, 1-2 events per month PLUS our well-known Expo. This is not a time to stop making connections\; this is the perfect time to make NEW ones. Join us at our Digital Summit this year and grow to lead during this time and for the future while connecting with other women.<br />\n<br />\n<span style="color:#800080\;">June 25th kicks off our Digital Summit</span> and features our always-awaited ATHENA Ceremony followed by our kick off Keynote Speaker\, Jessica Holmes.&nbsp\;</span></span></span></span><span style="font-family: arial\; font-size: 14px\; letter-spacing: -0.133333px\;">Following the session\, enjoy the&nbsp\;</span><span style="font-family: arial\; font-size: 14px\; letter-spacing: -0.133333px\; color: rgb(128\, 0\, 128)\;">Women2Women Expo</span><span style="font-family: arial\; font-size: 14px\; letter-spacing: -0.133333px\;">&nbsp\;featuring Women2Women sponsor tables\, local women-owned business tables and meet some of the local nonprofits at their tables. All virtual tables of course!&nbsp\;</span><br />\n<br />\n<span style="font-size: 14px\;"><span style="font-family: arial\; letter-spacing: -0.1pt\;"><span style="color:#800080\;"><strong>&nbsp\; &nbsp\; &nbsp\; &nbsp\; &nbsp\; &nbsp\; &nbsp\; &nbsp\; &nbsp\; &nbsp\; &nbsp\; &nbsp\; &nbsp\; &nbsp\; &nbsp\;<u><a href="https://chambermaster.blob.core.windows.net/userfiles/UserFiles/chambers/1980/File/W2W_files/2020W2WDigitalLeadershipSummitAGENDA.pdf">View 2020 Women2Women Digital Leadership Summit AGENDA</a></u></strong></span>&nbsp\;<br />\n<br />\nIn 2020\, each session per month is a separate price so YOU have the choice to attend what you&#39\;d like. As always\, you also have the choice to attend ALL for the full Women2Women leadership development experience. With each registration you will receive Full Day Access to the Virtual Expo as well!</span></span>\n<ul>\n	<li><span style="font-size: 14px\;"><span style="font-family: arial\; letter-spacing: -0.1pt\;"><u><strong>July 21st </strong></u>Breakout Session &quot\;Unapologetically Authentic&quot\;&nbsp\;- <a href="http://business.greaterreading.org/events/details/women2women-conference-expo-2020-digital-summit-breakout-session-1-all-day-expo-10639">Register Here</a></span></span></li>\n	<li><span style="font-size: 14px\;"><span style="font-family: arial\; letter-spacing: -0.1pt\;"><u><strong>August 12th</strong></u> Breakout Session &quot\;Game On: Using Mental Toughness as a Compass&quot\; - <a href="http://business.greaterreading.org/events/details/women2women-conference-expo-2020-digital-summit-breakout-session-2-all-day-expo-10640">Register Here</a></span></span></li>\n	<li><span style="font-size: 14px\;"><span style="font-family: arial\; letter-spacing: -0.1pt\;"><u><strong>September 22nd </strong></u>De Mujer a Mujer Ceremony + Send Off Keynote - <a href="http://business.greaterreading.org/events/details/women2women-conference-expo-2020-digital-summit-send-off-10638">Register Here</a></span></span></li>\n</ul>\n<br />\n<span style="color:#000000\;"><em style="font-family: arial\; font-size: 14px\;"><u><strong><span style="font-size: 16px\;">ATHENA Ceremony</span></strong></u></em><br />\n<em style="font-family: arial\; font-size: 14px\;"><strong><span style="font-size: 16px\;">2020 Recipient: Crystal Gilmore Harris</span></strong></em></span><br />\n<br style="font-family: arial\; font-size: 14px\;" />\n<font face="arial" style="color: rgb(0\, 0\, 0)\;"><span style="font-size: 14px\;">What better way to kick off our Digital Summit than to celebrate the 2020 ATHENA&#39\; recipient&#39\;s accomplishments and work for the community. <u>Crystal Gilmore Harris</u> is the Social Services Administrative Assistant at the Reading School District. Learn more about Crystal\, the ATHENA award and past recipients <u><strong><a href="https://www.berkswomen2women.com/the-marketplace/athena-awards/"><span style="color:#800080\;">here</span></a><span style="color:#800080\;">.</span></strong></u></span></font><br />\n<span style="font-size: 14px\;">_____________________________________________________________</span><br style="font-size: 14px\;" />\n<br />\n<span style="font-family:arial\;"><span style="font-size:14px\;"><span style="color:#000000\;"><em><u><strong><span style="font-size: 16px\;">Kick Off Keynote Speaker</span></strong></u></em></span><br />\n<br />\n<span style="color: rgb(0\, 0\, 0)\;"><strong>Jessica Holmes - <em>Celebrated Comedian\, Author &amp\; Mental Health Advocate&nbsp\;</em></strong></span></span></span><br />\n<span style="font-family:arial\;"><span style="font-size:14px\;"><span style="color: rgb(128\, 0\, 128)\;"><em>Depression the Comedy</em></span></span></span><br />\n<br />\n<span style="font-size:14px\;"><span style="font-family:arial\;">This is a frank and hilarious account of how it took Jessica Holmes two years to get diagnosed as depressed. It started small: she resented &ldquo\;fun stuff&rdquo\; like girls night out\, developed a loathing for words like &ldquo\;wellness\,&rdquo\; and avoided foods that promised to prolong her life. Even when she yawned her way through an emceeing job for Oprah Winfrey didn&rsquo\;t sound any alarms for her. By the end of 2013\, Jessica slept more than the cat\, gave her husband a hall pass\, and told her TV agent &ldquo\;hold my calls for six months&rdquo\; before diagnosis. &lrm\; In the nearly two years that she had transitioned from &ldquo\;cheerleader&rdquo\; to &ldquo\;zombie&rdquo\;\, she hadn&rsquo\;t taken stock of how far she had veered from her ideal life of fulfillment and gratitude. Jessica&rsquo\;s story\, which has a deeply happy ending\, relates to anyone who has ever been on a downhill trajectory\, whether with health\, relationships\, or career\, who forgot to stop and ask &ldquo\;where am I?&rdquo\;<br />\n&nbsp\;<br />\nJessica Holmes has opened for giants like Jerry Seinfeld\, Ellen DeGeneres\, and Oprah Winfrey. Combining stand-up\, music\, and improvisation\, she performed at Just For Laughs and The Second City before starring in her own TV series\, The Holmes Show.<br />\n&nbsp\;<br />\nAlso a wellness advocate\, Holmes mixes comedy with a validating message about life&rsquo\;s challenges in her book\, Depression The Comedy\, and has become a celebrated voice in fighting the stigma surrounding mental health issues in her hilarious and inspirational keynotes.<br />\n&nbsp\;<br />\nA mother of two (and wife of one)\, Holmes&rsquo\; passion is finding the laughs in life&#39\;s imperfections and turning embarrassments into punchlines.</span></span><br />\n<br />\n<span style="font-size: 14px\;">_______________________________________________________________</span><br />\n<br style="font-size: 14px\;" />\n<span style="color: rgb(0\, 0\, 0)\;"><em><u><strong><span style="font-size: 16px\;">Women2Women Virtual Expo</span></strong></u></em></span><br />\n<br />\n<span style="font-size: 14px\;"><span style="font-family: arial\;">Each year at the Women2Women Conference we offer our attendees the opportunity to peruse tables filled with goods\, services and education (+ swag)! Enjoy our Virtual Expo Experience and meet some of our Women2Women sponsors\, local women-owned businesses and nonprofits from our community.&nbsp\;<br />\n<br />\nInstead of one day for our Expo\, now you will have the opportunity to enjoy the Expo at your leisure across FOUR DAYS. You will receive an Access Pass for each event registration. The Pass will available all day to you. Instructions to follow with your registration.&nbsp\;</span></span><br />\n<br />\n<span style="font-size: 14px\;">_______________________________________________________________</span><br />\n<br />\n<span style="font-size: 14px\;"><em style="font-size: 11px\;">Media photos from 2019 Expo. Courtesy&nbsp\;of Zerbe&nbsp\;Photography.</em></span><br />\n&nbsp\;\n<pre style="color: rgb(170\, 170\, 170)\; font-style: italic\;">\n<span style="box-sizing: content-box\; bottom: auto\; clear: none\; color: rgb(0\, 0\, 0)\; content: normal\; direction: inherit\; empty-cells: show\; font-variant-numeric: inherit\; font-variant-east-asian: inherit\; font-stretch: inherit\; font-size: 14px\; font-family: Arial\, Helvetica\, sans-serif\; left: auto\; line-height: inherit\; margin: 0px\; max-height: none\; max-width: none\; min-height: initial\; min-width: initial\; opacity: 1\; outline-offset: 0px\; overflow: visible\; padding: 0px\; position: static\; resize: none\; right: auto\; table-layout: auto\; text-overflow: clip\; top: auto\; vertical-align: baseline\; visibility: inherit\; word-break: inherit\; overflow-wrap: inherit\; z-index: auto\; background: none rgba(255\, 255\, 255\, 0.9)\; border: none\; border-collapse: separate\; border-radius: 0px\; height: auto\; width: auto\; box-shadow: none\;"><span style="box-sizing: content-box\; bottom: auto\; clear: none\; color: inherit\; content: normal\; direction: inherit\; empty-cells: show\; font-style: inherit\; font-variant: inherit\; font-weight: inherit\; font-stretch: inherit\; font-family: Helvetica\, Arial\, sans-serif\; left: auto\; letter-spacing: inherit\; line-height: inherit\; margin: 0px\; max-height: none\; max-width: none\; min-height: initial\; min-width: initial\; opacity: 1\; outline-offset: 0px\; overflow: visible\; padding: 0px\; position: static\; resize: none\; right: auto\; table-layout: auto\; text-align: inherit\; text-indent: inherit\; text-overflow: clip\; text-transform: inherit\; top: auto\; vertical-align: baseline\; visibility: inherit\; word-break: inherit\; word-spacing: inherit\; overflow-wrap: inherit\; z-index: auto\; background: none\; border: none\; border-collapse: separate\; border-radius: 0px\; height: auto\; width: auto\; box-shadow: none\;"><em style="box-sizing: content-box\; bottom: auto\; clear: none\; color: inherit\; content: normal\; direction: inherit\; display: inline\; empty-cells: show\; font-variant: inherit\; font-weight: inherit\; font-stretch: inherit\; font-size: inherit\; font-family: inherit\; left: auto\; letter-spacing: inherit\; line-height: inherit\; margin: 0px\; max-height: none\; max-width: none\; min-height: initial\; min-width: initial\; opacity: 1\; outline-offset: 0px\; overflow: visible\; padding: 0px\; position: static\; resize: none\; right: auto\; table-layout: auto\; text-align: inherit\; text-indent: inherit\; text-overflow: clip\; text-transform: inherit\; top: auto\; vertical-align: baseline\; visibility: inherit\; white-space: inherit\; word-break: inherit\; word-spacing: inherit\; overflow-wrap: inherit\; z-index: auto\; background: none\; border: none\; border-collapse: separate\; border-radius: 0px\; height: auto\; width: auto\; box-shadow: none\;">Women2Women is a special program of the Greater Reading Chamber Alliance with the mission to be Berks County&#39\;s leading resource for building a healthy\, competitive business community. GRCA/W2W policy does not allow active campaigning or distribution of campaign materials at is event. No solicitation. Photos are taken at event and may be used on social media and in future advertising\; by attending you are consenting to the use of your photo. </em></span></span></pre>\n
LOCATION:Digital Summit - Zoom
UID:e.1980.9410
SEQUENCE:3
DTSTAMP:20260423T093413Z
URL:https://business.greaterreading.org/events/details/women2women-conference-expo-2020-digital-summit-kick-off-all-day-expo-9410
END:VEVENT

END:VCALENDAR
