BEGIN:VCALENDAR
VERSION:2.0
PRODID:-//ChamberMaster//Event Calendar 2.0//EN
METHOD:PUBLISH
X-PUBLISHED-TTL:P3D
REFRESH-INTERVAL:P3D
CALSCALE:GREGORIAN
BEGIN:VEVENT
DTSTART:20191106T130000Z
DTEND:20191106T143000Z
X-MICROSOFT-CDO-ALLDAYEVENT:FALSE
SUMMARY:Women2Women - Women in Medicine – Who Defines Us? Advocating For Yourself & Stepping Up - Nov 2019
DESCRIPTION:The Women Behind "All About Women"\n\nWomen in Medicine - Who Defines us? Advocating For Yourself & Stepping Up\n\n \n\nJoin the women behind Tower Health Medical Group's All About Women\, an OB/GYN practice consisting entirely of all female providers and office staff who are dedicated to serving the women of Berks County. Doctors Kristine Leaman\, Holly Metzgar\, Jaylaine Ghoubrial\, Christina DeAngelis\, and Melissa DuBois will share their experiences in stepping up and stepping out to found and grow All About Women.\n\n\n\n______________\n\n\n\nWomen2Women encourages women to create connections\, gain knowledge\, open doors\, build strategic alliances\, and much more. Our goal is to develop more women leaders in Berks County by providing a forum where women from diverse backgrounds can learn\, share ideas & mentor one another.
X-ALT-DESC;FMTTYPE=text/html:<br />\n<span style="color:#000000\;"><span style="font-size:14px\;"><span style="font-size:16px\;"><strong>The Women Behind &quot\;All About Women&quot\;</strong><br />\n<strong><em>Women in Medicine - Who Defines us? </em></strong><span style="font-size:14px\;"><strong><em>Advocating For Yourself &amp\; Stepping Up</em></strong></span></span><br />\n&nbsp\;<br />\nJoin the women behind Tower Health Medical Group&#39\;s <em>All About Women\,</em> an OB/GYN practice consisting entirely of all female providers and office staff who are dedicated to serving the women of Berks County. Doctors Kristine Leaman\, Holly Metzgar\, Jaylaine Ghoubrial\, Christina DeAngelis\, and Melissa DuBois will share their experiences in stepping up and stepping out to found and grow <em>All About Women.</em><br />\n<br />\n______________<br />\n<br />\n<em>Women2Women encourages women to create connections\, gain knowledge\, open doors\, build strategic alliances\, and much more. Our goal is to develop more women leaders in Berks County by providing a forum where women from diverse backgrounds can learn\, share ideas &amp\; mentor one another. </em></span></span><br />\n&nbsp\;
LOCATION:DoubleTree by Hilton Hotel Reading 701 Penn Street Reading\, PA 19601
UID:e.1980.9490
SEQUENCE:3
DTSTAMP:20260422T121913Z
URL:https://business.greaterreading.org/events/details/women2women-women-in-medicine-who-defines-us-advocating-for-yourself-stepping-up-nov-2019-9490
END:VEVENT

END:VCALENDAR
